BEGIN:VCALENDAR
VERSION:2.0
PRODID:spatie/icalendar-generator
DESCRIPTION:Events from Patrick Reed Photography
X-WR-CALDESC:Events from Patrick Reed Photography
REFRESH-INTERVAL;VALUE=DURATION:PT1440M
X-PUBLISHED-TTL:PT1440M
BEGIN:VTIMEZONE
TZID:America/New_York
BEGIN:DAYLIGHT
DTSTART:20250309T020000Z
TZOFFSETFROM:-0500
TZOFFSETTO:-0400
END:DAYLIGHT
BEGIN:STANDARD
DTSTART:20251102T020000Z
TZOFFSETFROM:-0400
TZOFFSETTO:-0500
END:STANDARD
BEGIN:DAYLIGHT
DTSTART:20260308T020000Z
TZOFFSETFROM:-0500
TZOFFSETTO:-0400
END:DAYLIGHT
END:VTIMEZONE
BEGIN:VTIMEZONE
TZID:UTC
BEGIN:STANDARD
DTSTART:20250725T102953Z
TZOFFSETFROM:+0000
TZOFFSETTO:+0000
END:STANDARD
END:VTIMEZONE
BEGIN:VEVENT
UID:12-12
DTSTAMP:20260421T102953Z
SUMMARY:Procam - Light &amp;amp\; Pose: A Masterclass with Jerry Ghionis &amp;amp\;
  Joe McNally
LOCATION:
ORGANIZER;CN=pat:MAILTO:pat@patrickreedphotography.com
DTSTART;TZID=America/New_York;VALUE=DATE:20250926
DTEND;TZID=America/New_York;VALUE=DATE:20250927
X-ALT-DESC;FMTTYPE=TEXT/HTML:
CATEGORIES:General
URL;VALUE=URI:https://patrickreedphotography.com/mc-events/procam-light-pos
 e-a-masterclass-with-jerry-ghionis-joe-mcnally/
METHOD:PUBLISH
END:VEVENT
END:VCALENDAR